Package: AgiMicroRna Version: 2.52.0 Command: rm -rf AgiMicroRna.buildbin-libdir && mkdir AgiMicroRna.buildbin-libdir && /Users/biocbuild/BBS/utils/build-universal.sh AgiMicroRna_2.52.0.tar.gz /Library/Frameworks/R.framework/Resources/bin/R AgiMicroRna.buildbin-libdir StartedAt: 2024-04-18 08:08:39 -0400 (Thu, 18 Apr 2024) EndedAt: 2024-04-18 08:10:20 -0400 (Thu, 18 Apr 2024) EllapsedTime: 100.7 seconds RetCode: 0 Status: OK PackageFile: AgiMicroRna_2.52.0.tgz PackageFileSize: 3.52 MiB