Package: AWFisher Version: 1.16.0 Command: /Library/Frameworks/R.framework/Resources/bin/R CMD INSTALL AWFisher StartedAt: 2024-04-16 10:13:04 -0400 (Tue, 16 Apr 2024) EndedAt: 2024-04-16 10:13:09 -0400 (Tue, 16 Apr 2024) EllapsedTime: 5.1 seconds RetCode: 0 Status: OK