Package: AWFisher Version: 1.16.0 Command: /Library/Frameworks/R.framework/Resources/bin/R CMD build --keep-empty-dirs --no-resave-data AWFisher StartedAt: 2024-04-16 13:43:36 -0400 (Tue, 16 Apr 2024) EndedAt: 2024-04-16 13:44:11 -0400 (Tue, 16 Apr 2024) EllapsedTime: 34.3 seconds RetCode: 0 Status: OK PackageFile: AWFisher_1.16.0.tar.gz PackageFileSize: 1.399 MiB