Package: ASSIGN Version: 1.38.0 Command: /Library/Frameworks/R.framework/Resources/bin/R CMD INSTALL ASSIGN StartedAt: 2024-04-16 12:20:52 -0400 (Tue, 16 Apr 2024) EndedAt: 2024-04-16 12:20:55 -0400 (Tue, 16 Apr 2024) EllapsedTime: 3.5 seconds RetCode: 0 Status: OK