Package: ASSET Version: 2.20.0 Command: /Library/Frameworks/R.framework/Resources/bin/R CMD check --install=check:ASSET.install-out.txt --library=/Library/Frameworks/R.framework/Resources/library --no-vignettes --timings ASSET_2.20.0.tar.gz StartedAt: 2024-04-17 05:55:24 -0400 (Wed, 17 Apr 2024) EndedAt: 2024-04-17 05:57:20 -0400 (Wed, 17 Apr 2024) EllapsedTime: 115.6 seconds RetCode: 0 Status: OK CheckDir: ASSET.Rcheck Warnings: 0