Package: ASSET Version: 2.20.0 Command: rm -rf ASSET.buildbin-libdir && mkdir ASSET.buildbin-libdir && /Users/biocbuild/BBS/utils/build-universal.sh ASSET_2.20.0.tar.gz /Library/Frameworks/R.framework/Resources/bin/R ASSET.buildbin-libdir StartedAt: 2024-04-18 08:14:37 -0400 (Thu, 18 Apr 2024) EndedAt: 2024-04-18 08:14:50 -0400 (Thu, 18 Apr 2024) EllapsedTime: 12.5 seconds RetCode: 0 Status: OK PackageFile: ASSET_2.20.0.tgz PackageFileSize: 473.8 KiB