Package: ASICS Version: 2.18.1 Command: /Library/Frameworks/R.framework/Resources/bin/R CMD INSTALL ASICS StartedAt: 2024-04-16 12:34:17 -0400 (Tue, 16 Apr 2024) EndedAt: 2024-04-16 12:34:57 -0400 (Tue, 16 Apr 2024) EllapsedTime: 40.7 seconds RetCode: 0 Status: OK