Package: ASICS Version: 2.18.1 Command: rm -rf ASICS.buildbin-libdir && mkdir ASICS.buildbin-libdir && /Users/biocbuild/BBS/utils/build-universal.sh ASICS_2.18.1.tar.gz /Library/Frameworks/R.framework/Resources/bin/R ASICS.buildbin-libdir StartedAt: 2024-04-18 08:14:22 -0400 (Thu, 18 Apr 2024) EndedAt: 2024-04-18 08:15:15 -0400 (Thu, 18 Apr 2024) EllapsedTime: 52.3 seconds RetCode: 0 Status: OK PackageFile: ASICS_2.18.1.tgz PackageFileSize: 4.161 MiB