Package: APL Version: 1.6.1 Command: /Library/Frameworks/R.framework/Resources/bin/R CMD INSTALL APL StartedAt: 2024-04-16 12:17:52 -0400 (Tue, 16 Apr 2024) EndedAt: 2024-04-16 12:18:50 -0400 (Tue, 16 Apr 2024) EllapsedTime: 57.3 seconds RetCode: 0 Status: OK