Package: APL Version: 1.6.1 Command: /Library/Frameworks/R.framework/Resources/bin/R CMD build --keep-empty-dirs --no-resave-data APL StartedAt: 2024-04-16 13:29:13 -0400 (Tue, 16 Apr 2024) EndedAt: 2024-04-16 13:33:20 -0400 (Tue, 16 Apr 2024) EllapsedTime: 246.7 seconds RetCode: 0 Status: OK PackageFile: APL_1.6.1.tar.gz PackageFileSize: 2.834 MiB