Package: APL Version: 1.6.1 Command: rm -rf APL.buildbin-libdir && mkdir APL.buildbin-libdir && /Users/biocbuild/BBS/utils/build-universal.sh APL_1.6.1.tar.gz /Library/Frameworks/R.framework/Resources/bin/R APL.buildbin-libdir StartedAt: 2024-04-18 08:13:05 -0400 (Thu, 18 Apr 2024) EndedAt: 2024-04-18 08:14:20 -0400 (Thu, 18 Apr 2024) EllapsedTime: 75.0 seconds RetCode: 0 Status: OK PackageFile: APL_1.6.1.tgz PackageFileSize: 3.24 MiB