Package: APAlyzer Version: 1.16.0 Command: /Library/Frameworks/R.framework/Resources/bin/R CMD check --install=check:APAlyzer.install-out.txt --library=/Library/Frameworks/R.framework/Resources/library --no-vignettes --timings APAlyzer_1.16.0.tar.gz StartedAt: 2024-04-17 05:43:13 -0400 (Wed, 17 Apr 2024) EndedAt: 2024-04-17 05:52:42 -0400 (Wed, 17 Apr 2024) EllapsedTime: 568.4 seconds RetCode: 0 Status: WARNINGS CheckDir: APAlyzer.Rcheck Warnings: 1