Package: ANF Version: 1.24.1 Command: /Library/Frameworks/R.framework/Resources/bin/R CMD build --keep-empty-dirs --no-resave-data ANF StartedAt: 2024-04-16 13:21:40 -0400 (Tue, 16 Apr 2024) EndedAt: 2024-04-16 13:23:18 -0400 (Tue, 16 Apr 2024) EllapsedTime: 97.8 seconds RetCode: 0 Status: OK PackageFile: ANF_1.24.1.tar.gz PackageFileSize: 683.3 KiB