Package: ANF Version: 1.24.1 Maintainer: Tianle Ma MaintainerEmail: tianlema at buffalo.edu git_url: https://git.bioconductor.org/packages/ANF git_branch: RELEASE_3_18 git_last_commit: 360f3cd git_last_commit_date: 2024-02-16 17:37:15 -0400 (Fri, 16 Feb 2024)