Package: ANCOMBC Version: 2.4.0 Command: /Library/Frameworks/R.framework/Resources/bin/R CMD check --install=check:ANCOMBC.install-out.txt --library=/Library/Frameworks/R.framework/Resources/library --no-vignettes --timings ANCOMBC_2.4.0.tar.gz StartedAt: 2024-04-17 05:28:37 -0400 (Wed, 17 Apr 2024) EndedAt: 2024-04-17 05:38:08 -0400 (Wed, 17 Apr 2024) EllapsedTime: 571.4 seconds RetCode: 0 Status: OK CheckDir: ANCOMBC.Rcheck Warnings: 0