Package: ANCOMBC Version: 2.4.0 Command: rm -rf ANCOMBC.buildbin-libdir && mkdir ANCOMBC.buildbin-libdir && /Users/biocbuild/BBS/utils/build-universal.sh ANCOMBC_2.4.0.tar.gz /Library/Frameworks/R.framework/Resources/bin/R ANCOMBC.buildbin-libdir StartedAt: 2024-04-18 08:11:21 -0400 (Thu, 18 Apr 2024) EndedAt: 2024-04-18 08:12:33 -0400 (Thu, 18 Apr 2024) EllapsedTime: 72.5 seconds RetCode: 0 Status: OK PackageFile: ANCOMBC_2.4.0.tgz PackageFileSize: 1.369 MiB