Package: ADaCGH2 Version: 2.42.0 Command: /Library/Frameworks/R.framework/Resources/bin/R CMD INSTALL ADaCGH2 StartedAt: 2024-04-16 12:10:07 -0400 (Tue, 16 Apr 2024) EndedAt: 2024-04-16 12:10:37 -0400 (Tue, 16 Apr 2024) EllapsedTime: 29.7 seconds RetCode: 0 Status: OK