Package: ADaCGH2 Version: 2.42.0 Command: /Library/Frameworks/R.framework/Resources/bin/R CMD build --keep-empty-dirs --no-resave-data ADaCGH2 StartedAt: 2024-04-16 13:09:56 -0400 (Tue, 16 Apr 2024) EndedAt: 2024-04-16 13:12:15 -0400 (Tue, 16 Apr 2024) EllapsedTime: 139.1 seconds RetCode: 0 Status: OK PackageFile: ADaCGH2_2.42.0.tar.gz PackageFileSize: 1.185 MiB