Package: ADAM Version: 1.18.0 Command: /Library/Frameworks/R.framework/Resources/bin/R CMD build --keep-empty-dirs --no-resave-data ADAM StartedAt: 2024-04-16 13:10:14 -0400 (Tue, 16 Apr 2024) EndedAt: 2024-04-16 13:11:10 -0400 (Tue, 16 Apr 2024) EllapsedTime: 56.0 seconds RetCode: 0 Status: OK PackageFile: ADAM_1.18.0.tar.gz PackageFileSize: 321.1 KiB