Package: ACME Version: 2.58.0 Command: /Library/Frameworks/R.framework/Resources/bin/R CMD build --keep-empty-dirs --no-resave-data ACME StartedAt: 2024-04-16 13:09:51 -0400 (Tue, 16 Apr 2024) EndedAt: 2024-04-16 13:10:25 -0400 (Tue, 16 Apr 2024) EllapsedTime: 34.4 seconds RetCode: 0 Status: OK PackageFile: ACME_2.58.0.tar.gz PackageFileSize: 9.909 MiB