Package: crisprScore Version: 1.6.0 Command: /home/biocbuild/bbs-3.18-bioc/R/bin/R CMD build --keep-empty-dirs --no-resave-data --no-build-vignettes --no-manual crisprScore StartedAt: 2023-12-09 11:00:14 -0500 (Sat, 09 Dec 2023) EndedAt: 2023-12-09 11:00:15 -0500 (Sat, 09 Dec 2023) EllapsedTime: 1.7 seconds RetCode: 0 Status: OK PackageFile: crisprScore_1.6.0.tar.gz PackageFileSize: 4.127 MiB