Package: crisprScore Version: 1.6.0 Command: /Library/Frameworks/R.framework/Resources/bin/R CMD check --test-dir=longtests --no-stop-on-test-error --no-codoc --no-examples --no-manual --ignore-vignettes --check-subdirs=no crisprScore_1.6.0.tar.gz StartedAt: 2024-04-13 16:07:58 -0400 (Sat, 13 Apr 2024) EndedAt: 2024-04-13 16:13:33 -0400 (Sat, 13 Apr 2024) EllapsedTime: 334.7 seconds RetCode: 1 Status: ERROR CheckDir: crisprScore.Rcheck Warnings: NA