Package: biodbUniprot Version: 1.8.0 Command: /Library/Frameworks/R.framework/Resources/bin/R CMD check --test-dir=longtests --no-stop-on-test-error --no-codoc --no-examples --no-manual --ignore-vignettes --check-subdirs=no biodbUniprot_1.8.0.tar.gz StartedAt: 2024-04-13 16:06:53 -0400 (Sat, 13 Apr 2024) EndedAt: 2024-04-13 16:09:33 -0400 (Sat, 13 Apr 2024) EllapsedTime: 159.9 seconds RetCode: 0 Status: OK CheckDir: biodbUniprot.Rcheck Warnings: 0