Package: biodb Version: 1.10.0 Command: F:\biocbuild\bbs-3.18-bioc\R\bin\R.exe CMD check --no-multiarch --test-dir=longtests --no-stop-on-test-error --no-codoc --no-examples --no-manual --ignore-vignettes --check-subdirs=no biodb_1.10.0.tar.gz StartedAt: 2024-04-13 16:04:28 -0400 (Sat, 13 Apr 2024) EndedAt: 2024-04-13 16:09:31 -0400 (Sat, 13 Apr 2024) EllapsedTime: 302.5 seconds RetCode: 1 Status: ERROR CheckDir: biodb.Rcheck Warnings: NA