Package: autonomics Version: 1.10.2 Command: /home/biocbuild/bbs-3.18-bioc/R/bin/R CMD build --keep-empty-dirs --no-resave-data --no-build-vignettes --no-manual autonomics StartedAt: 2023-12-09 11:00:08 -0500 (Sat, 09 Dec 2023) EndedAt: 2023-12-09 11:00:10 -0500 (Sat, 09 Dec 2023) EllapsedTime: 1.3 seconds RetCode: 0 Status: OK PackageFile: autonomics_1.10.2.tar.gz PackageFileSize: 107.2 KiB