Back to Long Tests report for BioC 3.18

This page was generated on 2023-12-09 21:30:02 -0500 (Sat, 09 Dec 2023).

HostnameOSArch (*)R versionInstalled pkgs
nebbiolo2Linux (Ubuntu 22.04.2 LTS)x86_644.3.2 Patched (2023-11-13 r85521) -- "Eye Holes" 4688
palomino4Windows Server 2022 Datacenterx644.3.2 (2023-10-31 ucrt) -- "Eye Holes" 4439
lconwaymacOS 12.7.1 Montereyx86_644.3.2 Patched (2023-11-01 r85457) -- "Eye Holes" 4458
Click on any hostname to see more info about the system (e.g. compilers)      (*) as reported by 'uname -p', except on Windows and Mac OS X

Package 2/30HostnameOS / ArchCHECK
autonomics 1.10.2  (landing page)
Aditya Bhagwat
Snapshot Date: 2023-12-09 09:55:01 -0500 (Sat, 09 Dec 2023)
git_url: https://git.bioconductor.org/packages/autonomics
git_branch: RELEASE_3_18
git_last_commit: 230045c
git_last_commit_date: 2023-11-08 04:08:57 -0500 (Wed, 08 Nov 2023)
nebbiolo2Linux (Ubuntu 22.04.2 LTS) / x86_64  ERROR  
palomino4Windows Server 2022 Datacenter / x64  ERROR  
lconwaymacOS 12.7.1 Monterey / x86_64  ERROR  

BUILD results for autonomics on lconway


To the developers/maintainers of the autonomics package:
- Use the following Renviron settings to reproduce errors and warnings.
- If 'R CMD check' started to fail recently on the Linux builder(s) over a missing dependency, add the missing dependency to 'Suggests:' in your DESCRIPTION file. See Renviron.bioc for more information.

raw results


Summary

Package: autonomics
Version: 1.10.2
Command: /Library/Frameworks/R.framework/Resources/bin/R CMD build --keep-empty-dirs --no-resave-data --no-build-vignettes --no-manual autonomics
StartedAt: 2023-12-09 11:00:23 -0500 (Sat, 09 Dec 2023)
EndedAt: 2023-12-09 11:00:25 -0500 (Sat, 09 Dec 2023)
EllapsedTime: 2.3 seconds
RetCode: 0
Status:   OK  
PackageFile: autonomics_1.10.2.tar.gz
PackageFileSize: 107.2 KiB

Command output

##############################################################################
##############################################################################
###
### Running command:
###
###   /Library/Frameworks/R.framework/Resources/bin/R CMD build --keep-empty-dirs --no-resave-data --no-build-vignettes --no-manual autonomics
###
##############################################################################
##############################################################################


* checking for file ‘autonomics/DESCRIPTION’ ... OK
* preparing ‘autonomics’:
* checking DESCRIPTION meta-information ... OK
* checking for LF line-endings in source and make files and shell scripts
* checking for empty or unneeded directories
Omitted ‘LazyData’ from DESCRIPTION
* building ‘autonomics_1.10.2.tar.gz’