Package: zlibbioc Version: 1.48.2 Command: /home/biocbuild/bbs-3.18-bioc/R/bin/R CMD check --install=check:zlibbioc.install-out.txt --library=/home/biocbuild/bbs-3.18-bioc/R/site-library --timings zlibbioc_1.48.2.tar.gz StartedAt: 2024-04-16 05:18:58 -0400 (Tue, 16 Apr 2024) EndedAt: 2024-04-16 05:19:13 -0400 (Tue, 16 Apr 2024) EllapsedTime: 15.3 seconds RetCode: 0 Status: OK CheckDir: zlibbioc.Rcheck Warnings: 0