Package: zlibbioc Version: 1.48.0 Command: rm -rf zlibbioc.buildbin-libdir && mkdir zlibbioc.buildbin-libdir && /Users/biocbuild/BBS/utils/build-universal.sh zlibbioc_1.48.0.tar.gz /Library/Frameworks/R.framework/Resources/bin/R zlibbioc.buildbin-libdir StartedAt: 2024-03-04 01:11:07 -0500 (Mon, 04 Mar 2024) EndedAt: 2024-03-04 01:11:19 -0500 (Mon, 04 Mar 2024) EllapsedTime: 11.9 seconds RetCode: 0 Status: OK PackageFile: zlibbioc_1.48.0.tgz PackageFileSize: 13.57 KiB