Package: zlibbioc Version: 1.48.0 Command: /home/biocbuild/R/R-4.3.1/bin/R CMD INSTALL zlibbioc StartedAt: 2023-11-01 20:03:29 -0000 (Wed, 01 Nov 2023) EndedAt: 2023-11-01 20:03:42 -0000 (Wed, 01 Nov 2023) EllapsedTime: 13.3 seconds RetCode: 0 Status: OK