Package: zenith Version: 1.4.2 Command: rm -rf zenith.buildbin-libdir && mkdir zenith.buildbin-libdir && /Users/biocbuild/BBS/utils/build-universal.sh zenith_1.4.2.tar.gz /Library/Frameworks/R.framework/Resources/bin/R zenith.buildbin-libdir StartedAt: 2024-04-16 12:57:31 -0400 (Tue, 16 Apr 2024) EndedAt: 2024-04-16 12:58:33 -0400 (Tue, 16 Apr 2024) EllapsedTime: 61.3 seconds RetCode: 0 Status: OK PackageFile: zenith_1.4.2.tgz PackageFileSize: 742.5 KiB