Package: zenith Version: 1.4.2 Command: /Library/Frameworks/R.framework/Resources/bin/R CMD INSTALL zenith StartedAt: 2024-03-03 15:29:56 -0500 (Sun, 03 Mar 2024) EndedAt: 2024-03-03 15:31:02 -0500 (Sun, 03 Mar 2024) EllapsedTime: 65.6 seconds RetCode: 0 Status: OK