Package: zenith Version: 1.4.2 Command: /Library/Frameworks/R.framework/Resources/bin/R CMD check --install=check:zenith.install-out.txt --library=/Library/Frameworks/R.framework/Resources/library --no-vignettes --timings zenith_1.4.2.tar.gz StartedAt: 2024-03-04 00:14:11 -0500 (Mon, 04 Mar 2024) EndedAt: 2024-03-04 00:18:34 -0500 (Mon, 04 Mar 2024) EllapsedTime: 262.5 seconds RetCode: 0 Status: OK CheckDir: zenith.Rcheck Warnings: 0