Package: zenith Version: 1.4.0 Command: /home/biocbuild/R/R-4.3.1/bin/R CMD build --keep-empty-dirs --no-resave-data zenith StartedAt: 2023-11-02 07:30:42 -0000 (Thu, 02 Nov 2023) EndedAt: 2023-11-02 07:32:49 -0000 (Thu, 02 Nov 2023) EllapsedTime: 126.5 seconds RetCode: 0 Status: OK PackageFile: zenith_1.4.0.tar.gz PackageFileSize: 7.251 MiB