Package: zellkonverter Version: 1.12.1 Command: /Library/Frameworks/R.framework/Resources/bin/R CMD check --install=check:zellkonverter.install-out.txt --library=/Library/Frameworks/R.framework/Resources/library --no-vignettes --timings zellkonverter_1.12.1.tar.gz StartedAt: 2024-04-16 10:34:01 -0400 (Tue, 16 Apr 2024) EndedAt: 2024-04-16 10:46:31 -0400 (Tue, 16 Apr 2024) EllapsedTime: 750.0 seconds RetCode: 0 Status: OK CheckDir: zellkonverter.Rcheck Warnings: 0