Package: zFPKM Version: 1.24.0 Command: /Library/Frameworks/R.framework/Resources/bin/R CMD build --keep-empty-dirs --no-resave-data zFPKM StartedAt: 2024-03-03 18:44:04 -0500 (Sun, 03 Mar 2024) EndedAt: 2024-03-03 18:44:56 -0500 (Sun, 03 Mar 2024) EllapsedTime: 52.3 seconds RetCode: 0 Status: OK PackageFile: zFPKM_1.24.0.tar.gz PackageFileSize: 143.1 KiB