Package: zFPKM Version: 1.24.0 Command: rm -rf zFPKM.buildbin-libdir && mkdir zFPKM.buildbin-libdir && /Users/biocbuild/BBS/utils/build-universal.sh zFPKM_1.24.0.tar.gz /Library/Frameworks/R.framework/Resources/bin/R zFPKM.buildbin-libdir StartedAt: 2024-03-04 01:11:05 -0500 (Mon, 04 Mar 2024) EndedAt: 2024-03-04 01:11:36 -0500 (Mon, 04 Mar 2024) EllapsedTime: 30.9 seconds RetCode: 0 Status: OK PackageFile: zFPKM_1.24.0.tgz PackageFileSize: 159.8 KiB