Package: xmapbridge Version: 1.60.0 Command: rm -rf xmapbridge.buildbin-libdir && mkdir xmapbridge.buildbin-libdir && F:\biocbuild\bbs-3.18-bioc\R\bin\R.exe CMD INSTALL --build --library=xmapbridge.buildbin-libdir xmapbridge_1.60.0.tar.gz StartedAt: 2024-04-16 07:51:40 -0400 (Tue, 16 Apr 2024) EndedAt: 2024-04-16 07:51:52 -0400 (Tue, 16 Apr 2024) EllapsedTime: 11.7 seconds RetCode: 0 Status: OK PackageFile: xmapbridge_1.60.0.zip PackageFileSize: 1.647 MiB