Package: xmapbridge Version: 1.60.0 Command: /Library/Frameworks/R.framework/Resources/bin/R CMD INSTALL xmapbridge StartedAt: 2024-04-15 15:07:28 -0400 (Mon, 15 Apr 2024) EndedAt: 2024-04-15 15:08:18 -0400 (Mon, 15 Apr 2024) EllapsedTime: 50.4 seconds RetCode: 0 Status: OK