Package: xmapbridge Version: 1.60.0 Command: rm -rf xmapbridge.buildbin-libdir && mkdir xmapbridge.buildbin-libdir && /Users/biocbuild/BBS/utils/build-universal.sh xmapbridge_1.60.0.tar.gz /Library/Frameworks/R.framework/Resources/bin/R xmapbridge.buildbin-libdir StartedAt: 2024-03-04 01:10:52 -0500 (Mon, 04 Mar 2024) EndedAt: 2024-03-04 01:10:59 -0500 (Mon, 04 Mar 2024) EllapsedTime: 6.7 seconds RetCode: 0 Status: OK PackageFile: xmapbridge_1.60.0.tgz PackageFileSize: 1.76 MiB