Package: xmapbridge Version: 1.60.0 Command: /home/biocbuild/R/R-4.3.1/bin/R CMD build --keep-empty-dirs --no-resave-data xmapbridge StartedAt: 2023-11-02 07:29:28 -0000 (Thu, 02 Nov 2023) EndedAt: 2023-11-02 07:29:51 -0000 (Thu, 02 Nov 2023) EllapsedTime: 23.0 seconds RetCode: 0 Status: OK PackageFile: xmapbridge_1.60.0.tar.gz PackageFileSize: 3.011 MiB