Package: wppi Version: 1.10.0 Command: chmod a+r wppi -R && F:\biocbuild\bbs-3.18-bioc\R\bin\R.exe CMD build --keep-empty-dirs --no-resave-data wppi StartedAt: 2024-04-15 21:58:25 -0400 (Mon, 15 Apr 2024) EndedAt: 2024-04-15 22:00:26 -0400 (Mon, 15 Apr 2024) EllapsedTime: 120.9 seconds RetCode: 0 Status: OK PackageFile: wppi_1.10.0.tar.gz PackageFileSize: 646.8 KiB