Package: wppi Version: 1.10.0 Command: rm -rf wppi.buildbin-libdir && mkdir wppi.buildbin-libdir && F:\biocbuild\bbs-3.18-bioc\R\bin\R.exe CMD INSTALL --build --library=wppi.buildbin-libdir wppi_1.10.0.tar.gz StartedAt: 2024-04-16 07:51:27 -0400 (Tue, 16 Apr 2024) EndedAt: 2024-04-16 07:51:43 -0400 (Tue, 16 Apr 2024) EllapsedTime: 15.9 seconds RetCode: 0 Status: OK PackageFile: wppi_1.10.0.zip PackageFileSize: 301.9 KiB