############################################################################## ############################################################################## ### ### Running command: ### ### /home/biocbuild/R/R-4.3.1/bin/R CMD check --install=check:wppi.install-out.txt --library=/home/biocbuild/R/R-4.3.1/site-library --timings wppi_1.9.0.tar.gz ### ############################################################################## ############################################################################## * using log directory ‘/home/biocbuild/bbs-3.18-bioc/meat/wppi.Rcheck’ * using R version 4.3.1 (2023-06-16) * using platform: aarch64-unknown-linux-gnu (64-bit) * R was compiled by gcc (GCC) 10.3.1 GNU Fortran (GCC) 10.3.1 * running under: openEuler 22.03 (LTS-SP1) * using session charset: UTF-8 * checking for file ‘wppi/DESCRIPTION’ ... OK * checking extension type ... Package * this is package ‘wppi’ version ‘1.9.0’ * package encoding: UTF-8 * checking package namespace information ... OK * checking package dependencies ... OK * checking if this is a source package ... OK * checking if there is a namespace ... OK * checking for hidden files and directories ... OK * checking for portable file names ... OK * checking for sufficient/correct file permissions ... OK * checking whether package ‘wppi’ can be installed ... OK * checking installed package size ... OK * checking package directory ... OK * checking ‘build’ directory ... OK * checking DESCRIPTION meta-information ... OK * checking top-level files ... OK * checking for left-over files ... OK * checking index information ... OK * checking package subdirectories ... OK * checking R files for non-ASCII characters ... OK * checking R files for syntax errors ... OK * checking whether the package can be loaded ... OK * checking whether the package can be loaded with stated dependencies ... OK * checking whether the package can be unloaded cleanly ... OK * checking whether the namespace can be loaded with stated dependencies ... OK * checking whether the namespace can be unloaded cleanly ... OK * checking loading without being on the library search path ... OK * checking startup messages can be suppressed ... NOTE [2023-10-13 14:05:23] [TRACE] [OmnipathR] Reading JSON from `/home/biocbuild/.cache/OmnipathR/cache.json` (encoding: UTF-8). [2023-10-13 14:05:23] [TRACE] [OmnipathR] JSON validation successful: TRUE [2023-10-13 14:05:23] [INFO] [OmnipathR] Initialized cache: `/home/biocbuild/.cache/OmnipathR`. [2023-10-13 14:05:23] [TRACE] [OmnipathR] Running on a build server, wiping cache. [2023-10-13 14:05:23] [TRACE] [OmnipathR] Cache is at `/home/biocbuild/.cache/OmnipathR`. [2023-10-13 14:05:23] [TRACE] [OmnipathR] Contains 1 files. [2023-10-13 14:05:23] [TRACE] [OmnipathR] Cache is locked: FALSE. [2023-10-13 14:05:23] [TRACE] [OmnipathR] Reading JSON from `/home/biocbuild/.cache/OmnipathR/cache.json` (encoding: UTF-8). [2023-10-13 14:05:23] [TRACE] [OmnipathR] JSON validation successful: TRUE [2023-10-13 14:05:23] [SUCCESS] [OmnipathR] Removing all cache contents from `/home/biocbuild/.cache/OmnipathR`. [2023-10-13 14:05:23] [TRACE] [OmnipathR] Pandoc version: `2.12`. [2023-10-13 14:05:23] [TRACE] [OmnipathR] Reading JSON from `/home/biocbuild/R/R-4.3.1/site-library/OmnipathR/db/db_def.json` (encoding: UTF-8). [2023-10-13 14:05:23] [TRACE] [OmnipathR] JSON validation successful: TRUE [2023-10-13 14:05:23] [TRACE] [OmnipathR] Reading JSON from `/home/biocbuild/R/R-4.3.1/site-library/OmnipathR/internal/magic_bytes.json` (encoding: UTF-8). [2023-10-13 14:05:23] [TRACE] [OmnipathR] JSON validation successful: TRUE [2023-10-13 14:05:23] [TRACE] [OmnipathR] Reading JSON from `/home/biocbuild/R/R-4.3.1/site-library/OmnipathR/internal/urls.json` (encoding: UTF-8). [2023-10-13 14:05:23] [TRACE] [OmnipathR] JSON validation successful: TRUE [2023-10-13 14:05:23] [TRACE] [OmnipathR] Reading JSON from `/home/biocbuild/R/R-4.3.1/site-library/OmnipathR/internal/id_types.json` (encoding: UTF-8). [2023-10-13 14:05:23] [TRACE] [OmnipathR] JSON validation successful: TRUE [2023-10-13 14:05:23] [TRACE] [OmnipathR] Cache locked: FALSE It looks like this package (or a package it requires) has a startup message which cannot be suppressed: see ?packageStartupMessage. * checking dependencies in R code ... OK * checking S3 generic/method consistency ... OK * checking replacement functions ... OK * checking foreign function calls ... OK * checking R code for possible problems ... NOTE [2023-10-13 14:05:40] [TRACE] [OmnipathR] Reading JSON from `/home/biocbuild/.cache/OmnipathR/cache.json` (encoding: UTF-8). [2023-10-13 14:05:40] [TRACE] [OmnipathR] JSON validation successful: TRUE [2023-10-13 14:05:40] [INFO] [OmnipathR] Initialized cache: `/home/biocbuild/.cache/OmnipathR`. [2023-10-13 14:05:40] [TRACE] [OmnipathR] Running on a build server, wiping cache. [2023-10-13 14:05:40] [TRACE] [OmnipathR] Cache is at `/home/biocbuild/.cache/OmnipathR`. [2023-10-13 14:05:40] [TRACE] [OmnipathR] Contains 1 files. [2023-10-13 14:05:40] [TRACE] [OmnipathR] Cache is locked: FALSE. [2023-10-13 14:05:40] [TRACE] [OmnipathR] Reading JSON from `/home/biocbuild/.cache/OmnipathR/cache.json` (encoding: UTF-8). [2023-10-13 14:05:40] [TRACE] [OmnipathR] JSON validation successful: TRUE [2023-10-13 14:05:40] [SUCCESS] [OmnipathR] Removing all cache contents from `/home/biocbuild/.cache/OmnipathR`. [2023-10-13 14:05:40] [TRACE] [OmnipathR] Pandoc version: `2.12`. [2023-10-13 14:05:40] [TRACE] [OmnipathR] Reading JSON from `/home/biocbuild/R/R-4.3.1/site-library/OmnipathR/db/db_def.json` (encoding: UTF-8). [2023-10-13 14:05:40] [TRACE] [OmnipathR] JSON validation successful: TRUE [2023-10-13 14:05:40] [TRACE] [OmnipathR] Reading JSON from `/home/biocbuild/R/R-4.3.1/site-library/OmnipathR/internal/magic_bytes.json` (encoding: UTF-8). [2023-10-13 14:05:40] [TRACE] [OmnipathR] JSON validation successful: TRUE [2023-10-13 14:05:40] [TRACE] [OmnipathR] Reading JSON from `/home/biocbuild/R/R-4.3.1/site-library/OmnipathR/internal/urls.json` (encoding: UTF-8). [2023-10-13 14:05:40] [TRACE] [OmnipathR] JSON validation successful: TRUE [2023-10-13 14:05:40] [TRACE] [OmnipathR] Reading JSON from `/home/biocbuild/R/R-4.3.1/site-library/OmnipathR/internal/id_types.json` (encoding: UTF-8). [2023-10-13 14:05:40] [TRACE] [OmnipathR] JSON validation successful: TRUE [2023-10-13 14:05:40] [TRACE] [OmnipathR] Cache locked: FALSE * checking Rd files ... OK * checking Rd metadata ... OK * checking Rd cross-references ... OK * checking for missing documentation entries ... OK * checking for code/documentation mismatches ... OK * checking Rd \usage sections ... OK * checking Rd contents ... OK * checking for unstated dependencies in examples ... OK * checking files in ‘vignettes’ ... OK * checking examples ... OK Examples with CPU (user + system) or elapsed time > 5s user system elapsed wppi 42.595 0.099 42.774 score_candidate_genes_from_PPI 21.949 0.154 22.149 prioritization_genes 21.701 0.257 22.001 random_walk 21.521 0.214 21.779 weighted_adj 16.101 0.103 16.238 count_genes 10.514 0.806 17.691 wppi_data 8.546 0.060 8.620 filter_annot_with_network 7.666 0.126 7.804 common_neighbors 7.470 0.321 9.175 functional_annot 2.366 0.182 18.532 * checking for unstated dependencies in vignettes ... OK * checking package vignettes in ‘inst/doc’ ... OK * checking running R code from vignettes ... ‘wppi_workflow.Rmd’ using ‘UTF-8’... OK NONE * checking re-building of vignette outputs ... OK * checking PDF version of manual ... OK * DONE Status: 2 NOTEs See ‘/home/biocbuild/bbs-3.18-bioc/meat/wppi.Rcheck/00check.log’ for details.