Package: wpm Version: 1.12.0 Command: /Library/Frameworks/R.framework/Resources/bin/R CMD build --keep-empty-dirs --no-resave-data wpm StartedAt: 2024-04-15 22:50:12 -0400 (Mon, 15 Apr 2024) EndedAt: 2024-04-15 22:50:50 -0400 (Mon, 15 Apr 2024) EllapsedTime: 38.3 seconds RetCode: 0 Status: OK PackageFile: wpm_1.12.0.tar.gz PackageFileSize: 2.428 MiB