Package: wpm Version: 1.12.0 Command: rm -rf wpm.buildbin-libdir && mkdir wpm.buildbin-libdir && /Users/biocbuild/BBS/utils/build-universal.sh wpm_1.12.0.tar.gz /Library/Frameworks/R.framework/Resources/bin/R wpm.buildbin-libdir StartedAt: 2024-04-16 12:56:54 -0400 (Tue, 16 Apr 2024) EndedAt: 2024-04-16 12:57:05 -0400 (Tue, 16 Apr 2024) EllapsedTime: 10.1 seconds RetCode: 0 Status: OK PackageFile: wpm_1.12.0.tgz PackageFileSize: 1.943 MiB