Package: widgetTools Version: 1.80.0 Command: rm -rf widgetTools.buildbin-libdir && mkdir widgetTools.buildbin-libdir && /Users/biocbuild/BBS/utils/build-universal.sh widgetTools_1.80.0.tar.gz /Library/Frameworks/R.framework/Resources/bin/R widgetTools.buildbin-libdir StartedAt: 2024-03-04 01:10:40 -0500 (Mon, 04 Mar 2024) EndedAt: 2024-03-04 01:10:49 -0500 (Mon, 04 Mar 2024) EllapsedTime: 9.3 seconds RetCode: 0 Status: OK PackageFile: widgetTools_1.80.0.tgz PackageFileSize: 447.3 KiB