Package: weitrix Version: 1.14.0 Command: /Library/Frameworks/R.framework/Resources/bin/R CMD INSTALL weitrix StartedAt: 2024-04-15 15:25:15 -0400 (Mon, 15 Apr 2024) EndedAt: 2024-04-15 15:26:15 -0400 (Mon, 15 Apr 2024) EllapsedTime: 60.4 seconds RetCode: 0 Status: OK