Package: weitrix Version: 1.14.0 Command: /Library/Frameworks/R.framework/Resources/bin/R CMD INSTALL weitrix StartedAt: 2024-03-03 15:12:03 -0500 (Sun, 03 Mar 2024) EndedAt: 2024-03-03 15:12:43 -0500 (Sun, 03 Mar 2024) EllapsedTime: 39.6 seconds RetCode: 0 Status: OK