Package: weitrix Version: 1.14.0 Command: rm -rf weitrix.buildbin-libdir && mkdir weitrix.buildbin-libdir && /Users/biocbuild/BBS/utils/build-universal.sh weitrix_1.14.0.tar.gz /Library/Frameworks/R.framework/Resources/bin/R weitrix.buildbin-libdir StartedAt: 2024-03-04 01:10:40 -0500 (Mon, 04 Mar 2024) EndedAt: 2024-03-04 01:11:26 -0500 (Mon, 04 Mar 2024) EllapsedTime: 46.8 seconds RetCode: 0 Status: OK PackageFile: weitrix_1.14.0.tgz PackageFileSize: 8.716 MiB