Package: weitrix Version: 1.13.1 Command: /home/biocbuild/R/R-4.3.1/bin/R CMD check --install=check:weitrix.install-out.txt --library=/home/biocbuild/R/R-4.3.1/site-library --timings weitrix_1.13.1.tar.gz StartedAt: 2023-10-13 14:03:57 -0000 (Fri, 13 Oct 2023) EndedAt: 2023-10-13 14:24:11 -0000 (Fri, 13 Oct 2023) EllapsedTime: 1214.2 seconds RetCode: 0 Status: OK CheckDir: weitrix.Rcheck Warnings: 0